BEGIN:VCALENDAR
VERSION:2.0
PRODID:-//ChamberMaster//Event Calendar 2.0//EN
METHOD:PUBLISH
X-PUBLISHED-TTL:P3D
REFRESH-INTERVAL:P3D
CALSCALE:GREGORIAN
BEGIN:VEVENT
DTSTART:20260428T230000Z
DTEND:20260429T010000Z
X-MICROSOFT-CDO-ALLDAYEVENT:FALSE
SUMMARY:Toastmasters
DESCRIPTION:
X-ALT-DESC;FMTTYPE=text/html:
LOCATION:PPGH Professional Building 202 SW 25th Ave. Mineral Wells
UID:e.1172.27289
SEQUENCE:3
DTSTAMP:20260421T222852Z
URL:https://business.mineralwellstx.com/events/details/toastmasters-04-28-2026-27289
END:VEVENT

END:VCALENDAR
