BEGIN:VCALENDAR
VERSION:2.0
PRODID:-//ChamberMaster//Event Calendar 2.0//EN
METHOD:PUBLISH
X-PUBLISHED-TTL:P3D
REFRESH-INTERVAL:P3D
CALSCALE:GREGORIAN
BEGIN:VEVENT
DTSTART:20260518T000000Z
DTEND:20260518T020000Z
X-MICROSOFT-CDO-ALLDAYEVENT:FALSE
SUMMARY:Splendor Dinner: Summer Nights
DESCRIPTION:Summer Nights: A Grease-Inspired Culinary Experience is officially LIVE. Chef Magen and Second Star Theatre Co. have partnered to bring you something special. \n\n \n\nMay 17th 7pm-9pm \n\nMain Street Events \n\nGraford Texas\n\n \n\nThis menu is everything I love about food.\n\nNostalgic\, craveable\, a little messy  and done right.\n\n \n\nNo gimmicks. No overthinking.\n\nJust the best version of the classics we grew up on:\n\n  grilled cheese + tomato soup\n\n  pit stop fries with steak\n\n  smash burger + onion rings\n\n  root beer float\n\n  diner pie to finish\n\n \n\nBut make it a chefy.\n\n \n\n  7 courses\n\nFully immersive. \n\nLimited seats.\n\n \n\nIf you've been to a Splendor dinner before you already know. If you haven't  this is the one.\n\n   Tickets are LIVE. Don't wait.\n\n \n\nhttps://www.eventbrite.com/e/1980046054049?aff=oddtdtcreator
X-ALT-DESC;FMTTYPE=text/html:Summer Nights: A Grease-Inspired Culinary Experience is officially LIVE. Chef Magen and Second Star Theatre Co. have partnered to bring you something special.&nbsp\;<br />\n&nbsp\;<br />\nMay 17th 7pm-9pm&nbsp\;<br />\nMain Street Events&nbsp\;<br />\nGraford Texas<br />\n&nbsp\;<br />\nThis menu is everything I love about food.<br />\nNostalgic\, craveable\, a little messy&hellip\; and done right.<br />\n&nbsp\;<br />\nNo gimmicks. No overthinking.<br />\nJust the best version of the classics we grew up on:<br />\n<span style="font-family:segoe ui emoji\,sans-serif\;">&#127838\;</span> grilled cheese + tomato soup<br />\n<span style="font-family:segoe ui emoji\,sans-serif\;">&#127839\;</span> pit stop fries with steak<br />\n<span style="font-family:segoe ui emoji\,sans-serif\;">&#127828\;</span> smash burger + onion rings<br />\n<span style="font-family:segoe ui emoji\,sans-serif\;">&#129380\;</span> root beer float<br />\n<span style="font-family:segoe ui emoji\,sans-serif\;">&#127826\;</span> diner pie to finish<br />\n&nbsp\;<br />\nBut make it&hellip\;a chefy.<br />\n&nbsp\;<br />\n<span style="font-family:segoe ui emoji\,sans-serif\;">&#10024\;</span> 7 courses<br />\nFully immersive.&nbsp\;<br />\nLimited seats.<br />\n&nbsp\;<br />\nIf you&rsquo\;ve been to a Splendor dinner before&mdash\;you already know. If you haven&rsquo\;t&hellip\; this is the one.<br />\n<span style="font-family:segoe ui emoji\,sans-serif\;">&#127903\;&#65039\;</span> Tickets are LIVE. Don&rsquo\;t wait.<br />\n&nbsp\;<br />\n<a href="https://www.eventbrite.com/e/1980046054049?aff=oddtdtcreator">https://www.eventbrite.com/e/1980046054049?aff=oddtdtcreator</a>
LOCATION:
UID:e.1172.30288
SEQUENCE:3
DTSTAMP:20260425T194757Z
URL:https://business.mineralwellstx.com/events/details/splendor-dinner-summer-nights-30288
END:VEVENT

END:VCALENDAR
