BEGIN:VCALENDAR
VERSION:2.0
PRODID:-//ChamberMaster//Event Calendar 2.0//EN
METHOD:PUBLISH
X-PUBLISHED-TTL:P3D
REFRESH-INTERVAL:P3D
CALSCALE:GREGORIAN
BEGIN:VEVENT
DTSTART;VALUE=DATE:20251101
DTEND;VALUE=DATE:20251220
TRANSP:TRANSPARENT
X-MICROSOFT-CDO-ALLDAYEVENT:TRUE
SUMMARY:Shop Local & Win 2025
DESCRIPTION:Merchant Fee\n\nChamber Member $150          \n\nNon-Member $300 *If you're considering membership\, reach out to Marcelinda so you can save $175 on the merchant rate. \n\n\n\nMerchant Benefits\n\n\n\nListing on the Shop Local & Win! Stamp card\n\nListing on the Shop Local & Win Webpage by category\n\nListing in the Shop Local & Win! In the Chamber News Flash Emails\n\nListing in Shop Local & Win! Merchants posts on the Chamber Facebook page\n\n \n\n Reach even more potential customers this year!\n\nFor more information click the links below\n\nn OPTIONS\n\n SLW Sponsorships Merchant Registration
X-ALT-DESC;FMTTYPE=text/html:<span style="language:en-US\;"><span style="color:#159841\;"><span style="font-family:neutraface 2 display titling\;"><span style="font-size:18.0pt\;">Merchant Fee</span></span></span></span><br />\n<span style="font-weight:bold\;language:en-US\;"><span style="color:black\;"><span style="font-family:neutraface 2 text book\;"><span style="font-size:16.0pt\;">Chamber Member $150&nbsp\;&nbsp\;&nbsp\;&nbsp\;&nbsp\;&nbsp\;&nbsp\;&nbsp\;&nbsp\; </span></span></span></span><br />\n<span style="font-weight:bold\;language:en-US\;"><span style="color:black\;"><span style="font-family:neutraface 2 text book\;"><span style="font-size:16.0pt\;">Non-Member $300 </span></span></span></span><span style="font-style:italic\;language:en-US\;"><span style="color:black\;"><span style="font-family:neutraface 2 text book\;">*If you&rsquo\;re considering membership\, reach out to Marcelinda so you can save $175 on the merchant rate. </span></span></span><br />\n<br />\n<span style="language:en-US\;"><span style="color:#159841\;"><span style="font-family:neutraface 2 display titling\;"><span style="font-size:18.0pt\;">Merchant Benefits</span></span></span></span><br />\n<br />\nListing on the Shop Local &amp\; Win! Stamp card<br />\nListing on the Shop Local &amp\; Win Webpage by category<br />\nListing in the Shop Local &amp\; Win! In the Chamber News Flash Emails<br />\nListing in Shop Local &amp\; Win! Merchants posts on the Chamber Facebook page<br />\n&nbsp\;<br />\n&nbsp\;<span style="language:en-US\;"><span style="color:white\;"><span style="font-family:neutraface 2 display titling\;"><span style="font-size:14.0pt\;"><span style="font-size:28pt\;"><span style="font-family:freestyle script\;"><span style="color:#159841\;">Reach even more potential customers this year!</span></span></span></span></span></span></span><br />\n<span style="language:en-US\;"><span style="color:white\;"><span style="font-family:neutraface 2 display titling\;"><span style="font-size:14.0pt\;"><span style="font-size:28pt\;"><span style="font-family:freestyle script\;"><span style="color:#159841\;">For more information click the links below</span></span></span></span></span></span></span><br />\n<span style="font-size:14pt\;"><span style="font-family:neutraface 2 display titling\;"><span style="color:white\;">n OPTIONS</span></span></span><br />\n<span style="language:en-US\;"><span style="color:white\;"><span style="font-family:neutraface 2 display titling\;"><span style="font-size:14.0pt\;">&nbsp\;</span></span></span></span><span style="font-size:14px\;"><a href="https://chambermaster.blob.core.windows.net/userfiles/UserFiles/chambers/1172/File/ShopLocalSponsorForm2025page2.png">SLW Sponsorships</a>&nbsp\;<a href="https://chambermaster.blob.core.windows.net/userfiles/UserFiles/chambers/1172/File/MerchantSignUpForm2025.png">Merchant Registration</a></span><br />\n&nbsp\;
LOCATION:
UID:e.1172.29458
SEQUENCE:3
DTSTAMP:20260420T033658Z
URL:https://business.mineralwellstx.com/events/details/shop-local-win-2025-29458
END:VEVENT

END:VCALENDAR
