BEGIN:VCALENDAR
VERSION:2.0
PRODID:-//ChamberMaster//Event Calendar 2.0//EN
METHOD:PUBLISH
X-PUBLISHED-TTL:P3D
REFRESH-INTERVAL:P3D
CALSCALE:GREGORIAN
BEGIN:VEVENT
DTSTART:20260417T163000Z
DTEND:20260417T180000Z
X-MICROSOFT-CDO-ALLDAYEVENT:FALSE
SUMMARY:Member Appreciation Luncheon
DESCRIPTION:Step up to the plate and join us for our Membership Appreciation Luncheon!\n\nThis year's baseball-themed celebration\, Chamber All-Stars is dedicated to the incredible Chamber members who help keep businesses across Palo Pinto County thriving. Enjoy a fun ballpark-style lunch food as we celebrate the MVPs of our business community.\n\nThis special event is our way of saying thank you to the members who continue to support and strengthen the Mineral Wells Area Chamber of Commerce and the business community throughout Palo Pinto County.\n\nThis event is free for members\, but RSVP is required.\n\nReserve your spot by scanning the QR code\, clicking the link\, or replying to the invitation email.\n\n  Don't strike out RSVP today!
X-ALT-DESC;FMTTYPE=text/html:<p><strong>Step up to the plate and join us for our Membership Appreciation Luncheon!</strong></p>\n\n<p>This year&rsquo\;s baseball-themed celebration\, <strong>Chamber All-Stars</strong> is dedicated to the incredible Chamber members who help keep businesses across <strong>Palo Pinto County</strong> thriving. Enjoy a fun ballpark-style lunch food as we celebrate the MVPs of our business community.</p>\n\n<p>This special event is our way of saying thank you to the members who continue to support and strengthen the Mineral Wells Area Chamber of Commerce and the business community throughout <strong>Palo Pinto County</strong>.</p>\n\n<p><strong>This event is free for members\, but RSVP is required.</strong><br />\nReserve your spot by scanning the QR code\, clicking the link\, or replying to the invitation email.</p>\n\n<p>&#9918\; <strong>Don&rsquo\;t strike out&mdash\;RSVP today!</strong></p>\n
LOCATION:107 N. Oak St
UID:e.1172.27651
SEQUENCE:3
DTSTAMP:20260421T222642Z
URL:https://business.mineralwellstx.com/events/details/member-appreciation-luncheon-27651
END:VEVENT

END:VCALENDAR
