BEGIN:VCALENDAR
VERSION:2.0
PRODID:-//ChamberMaster//Event Calendar 2.0//EN
METHOD:PUBLISH
X-PUBLISHED-TTL:P3D
REFRESH-INTERVAL:P3D
CALSCALE:GREGORIAN
BEGIN:VEVENT
DTSTART:20260306T140000Z
DTEND:20260405T220000Z
X-MICROSOFT-CDO-ALLDAYEVENT:FALSE
SUMMARY:Grow at Clark Gardens
DESCRIPTION:Join Clark Gardens in this annual celebration of opening for the spring season. Each March a month-long festival\, Grow at Clark Gardens\, is hosted. Grow at Clark Gardens is all about enriching lives through art\, wellness\, and nature based activities. There is something for everyone. Clark Gardens officially opens for the 2026 spring season March 6th. Grow is from March 6th-April 5th
X-ALT-DESC;FMTTYPE=text/html:Join Clark Gardens in this annual celebration of opening for the spring season. Each March a month-long festival\, Grow at Clark Gardens\, is hosted. Grow at Clark Gardens is all about enriching lives through art\, wellness\, and nature based activities. There is something for everyone. Clark Gardens officially opens for the 2026 spring season March 6th. Grow is from March 6th-April 5th
LOCATION:Clark Gardens 567 Maddux Rd. Weatherford\, TX. 76088
UID:e.1172.30134
SEQUENCE:3
DTSTAMP:20260421T225504Z
URL:https://business.mineralwellstx.com/events/details/grow-at-clark-gardens-03-06-2026-30134
END:VEVENT

END:VCALENDAR
