BEGIN:VCALENDAR
VERSION:2.0
PRODID:-//ChamberMaster//Event Calendar 2.0//EN
METHOD:PUBLISH
X-PUBLISHED-TTL:P3D
REFRESH-INTERVAL:P3D
CALSCALE:GREGORIAN
BEGIN:VEVENT
DTSTART:20260414T230000Z
DTEND:20260415T030000Z
X-MICROSOFT-CDO-ALLDAYEVENT:FALSE
SUMMARY:Grace House Ministries Gala
DESCRIPTION:Grace House Ministries Gala\n\nTuesday\, April 14\, 2026 6:00 PM\n\nAt Willow Park Baptist Church (777 Crown Pointe Blvd.\, Weatherford\, TX 76087)\n\nMore Details to come.
X-ALT-DESC;FMTTYPE=text/html:<span style="font-size:11.0pt\;">Grace House Ministries Gala</span><br />\n<span style="font-size:11.0pt\;">Tuesday\, April 14\, 2026 6:00 PM</span><br />\n<span style="font-size:11.0pt\;">At Willow Park Baptist Church (</span><span style="font-family:arialnarrow\;"><span style="font-size:10.0pt\;">777 Crown Pointe Blvd.\, Weatherford\, TX 76087)</span></span><br />\nMore Details to come.
LOCATION:
UID:e.1172.29529
SEQUENCE:3
DTSTAMP:20260421T223622Z
URL:https://business.mineralwellstx.com/events/details/grace-house-ministries-gala-29529
END:VEVENT

END:VCALENDAR
