BEGIN:VCALENDAR
VERSION:2.0
PRODID:-//ChamberMaster//Event Calendar 2.0//EN
METHOD:PUBLISH
X-PUBLISHED-TTL:P3D
REFRESH-INTERVAL:P3D
CALSCALE:GREGORIAN
BEGIN:VEVENT
DTSTART:20260327T143000Z
DTEND:20260327T180000Z
X-MICROSOFT-CDO-ALLDAYEVENT:FALSE
SUMMARY:EmpowerHER: Illuminate 2026
DESCRIPTION:EmpowerHer: Illuminate 2026\n\nWomen's Luncheon | Friday\, March 27\, 2026\n\nEmpowerHer: Illuminate 2026 is an elevated women's luncheon celebrating confidence\, connection\, and modern western strength. Designed for women in business and leadership\, this experience brings together inspiration\, meaningful conversation\, and unforgettable details.\n\nThis year's event features a keynote presentation by Courtenay DeHoff\, creator of Live Legendary and Unleash Your Inner Cowgirl\, whose message encourages women to lead boldly\, own their story\, and step fully into their potential.\n\nIn addition to the keynote\, guests will enjoy:\n\n\n	\n	A dynamic empowerment panel featuring influential women leaders\n	\n	\n	The Shimmer Saloon\, a signature mimosa and mocktail experience\n	\n	\n	The Illuminate Lounge with photo opportunities\n	\n	\n	Curated women-owned vendor booths\n	\n	\n	Interactive elements including the Glow Wall\n	\n	\n	Thoughtful door prizes and giveaways\n	\n	\n	A signature guest gift\, The Cowgirl Cache\, included with every ticket\n	\n\n\nThe program will also include the presentation of two awards:\n\n\n	\n	Woman of the Year Award\, honoring exceptional leadership and community impact\n	\n	\n	Glow Getter Award\, recognizing innovation\, momentum\, and rising leadership\n	\n\n\nWhether you attend as an individual or with a group\, EmpowerHer: Illuminate is designed to inspire\, uplift\, and connect women who lead\, support\, and champion one another.\n\n\n  Event Schedule (Subject to Change)\n\n\n	\n	Vendor Setup: 8:00 9:00 AM\n	\n	\n	VIP Access Begins: 9:30 AM\n	\n	\n	Doors Open: 10:00 AM\n	\n	\n	Lunch Service Begins: 11:00 AM\n	\n	\n	Keynote Speaker: 11:40 AM\n	\n	\n	Empowerment Panel: 12:15 PM\n	\n	\n	Awards\, Door Prizes & Closing Remarks: 12:30 PM\n	\n	\n	Networking & Photo Opportunities: 12:50 PM
X-ALT-DESC;FMTTYPE=text/html:<h2 data-end="453" data-start="419">&#10024\; EmpowerHer: Illuminate 2026</h2>\n\n<h3 data-end="499" data-start="454">Women&rsquo\;s Luncheon | Friday\, March 27\, 2026</h3>\n\n<p data-end="773" data-start="501"><strong data-end="532" data-start="501">EmpowerHer: Illuminate 2026</strong> is an elevated women&rsquo\;s luncheon celebrating confidence\, connection\, and modern western strength. Designed for women in business and leadership\, this experience brings together inspiration\, meaningful conversation\, and unforgettable details.</p>\n\n<p data-end="1012" data-start="775">This year&rsquo\;s event features a keynote presentation by <strong data-end="848" data-start="828">Courtenay DeHoff</strong>\, creator of <em data-end="877" data-start="861">Live Legendary</em> and <em data-end="910" data-start="882">Unleash Your Inner Cowgirl</em>\, whose message encourages women to lead boldly\, own their story\, and step fully into their potential.</p>\n\n<p data-end="1060" data-start="1014">In addition to the keynote\, guests will enjoy:</p>\n\n<ul data-end="1460" data-start="1061">\n	<li data-end="1128" data-start="1061">\n	<p data-end="1128" data-start="1063">A dynamic empowerment panel featuring influential women leaders</p>\n	</li>\n	<li data-end="1199" data-start="1129">\n	<p data-end="1199" data-start="1131">The <strong data-end="1153" data-start="1135">Shimmer Saloon</strong>\, a signature mimosa and mocktail experience</p>\n	</li>\n	<li data-end="1254" data-start="1200">\n	<p data-end="1254" data-start="1202">The <strong data-end="1227" data-start="1206">Illuminate Lounge</strong> with photo opportunities</p>\n	</li>\n	<li data-end="1292" data-start="1255">\n	<p data-end="1292" data-start="1257">Curated women-owned vendor booths</p>\n	</li>\n	<li data-end="1341" data-start="1293">\n	<p data-end="1341" data-start="1295">Interactive elements including the Glow Wall</p>\n	</li>\n	<li data-end="1382" data-start="1342">\n	<p data-end="1382" data-start="1344">Thoughtful door prizes and giveaways</p>\n	</li>\n	<li data-end="1460" data-start="1383">\n	<p data-end="1460" data-start="1385">A signature guest gift\, <strong data-end="1430" data-start="1409">The Cowgirl Cache</strong>\, included with every ticket</p>\n	</li>\n</ul>\n\n<p data-end="1523" data-start="1462">The program will also include the presentation of two awards:</p>\n\n<ul data-end="1692" data-start="1524">\n	<li data-end="1609" data-start="1524">\n	<p data-end="1609" data-start="1526"><strong data-end="1553" data-start="1526">Woman of the Year Award</strong>\, honoring exceptional leadership and community impact</p>\n	</li>\n	<li data-end="1692" data-start="1610">\n	<p data-end="1692" data-start="1612"><strong data-end="1633" data-start="1612">Glow Getter Award</strong>\, recognizing innovation\, momentum\, and rising leadership</p>\n	</li>\n</ul>\n\n<p data-end="1864" data-start="1694">Whether you attend as an individual or with a group\, EmpowerHer: Illuminate is designed to inspire\, uplift\, and connect women who lead\, support\, and champion one another.</p>\n\n<hr data-end="1869" data-start="1866" />\n<h2 data-end="1911" data-start="1871">&#128344\; Event Schedule (Subject to Change)</h2>\n\n<ul data-end="2194" data-start="1912">\n	<li data-end="1942" data-start="1912">\n	<p data-end="1942" data-start="1914">Vendor Setup: 8:00&ndash\;9:00 AM</p>\n	</li>\n	<li data-end="1973" data-start="1943">\n	<p data-end="1973" data-start="1945">VIP Access Begins: 9:30 AM</p>\n	</li>\n	<li data-end="1998" data-start="1974">\n	<p data-end="1998" data-start="1976">Doors Open: 10:00 AM</p>\n	</li>\n	<li data-end="2033" data-start="1999">\n	<p data-end="2033" data-start="2001">Lunch Service Begins: 11:00 AM</p>\n	</li>\n	<li data-end="2063" data-start="2034">\n	<p data-end="2063" data-start="2036">Keynote Speaker: 11:40 AM</p>\n	</li>\n	<li data-end="2095" data-start="2064">\n	<p data-end="2095" data-start="2066">Empowerment Panel: 12:15 PM</p>\n	</li>\n	<li data-end="2147" data-start="2096">\n	<p data-end="2147" data-start="2098">Awards\, Door Prizes &amp\; Closing Remarks: 12:30 PM</p>\n	</li>\n	<li data-end="2194" data-start="2148">\n	<p data-end="2194" data-start="2150">Networking &amp\; Photo Opportunities: 12:50 PM</p>\n	</li>\n</ul>\n\n<hr data-end="2199" data-start="2196" />\n<h2 data-end="2226" data-start="2201">&nbsp\;</h2>\n
LOCATION:Location: Holiday Hills Golf Course\, Mineral Wells\, TX
UID:e.1172.30145
SEQUENCE:3
DTSTAMP:20260425T233228Z
URL:https://business.mineralwellstx.com/events/details/empowerher-illuminate-2026-30145
END:VEVENT

END:VCALENDAR
