BEGIN:VCALENDAR
VERSION:2.0
PRODID:-//ChamberMaster//Event Calendar 2.0//EN
METHOD:PUBLISH
X-PUBLISHED-TTL:P3D
REFRESH-INTERVAL:P3D
CALSCALE:GREGORIAN
BEGIN:VEVENT
DTSTART:20260116T203000Z
DTEND:20260116T220000Z
X-MICROSOFT-CDO-ALLDAYEVENT:FALSE
SUMMARY:Co Rm Merry Wells Meeting
DESCRIPTION:Debrief for Merry Wells
X-ALT-DESC;FMTTYPE=text/html:Debrief for Merry Wells
LOCATION:
UID:e.1172.30135
SEQUENCE:3
DTSTAMP:20260426T021311Z
URL:https://business.mineralwellstx.com/events/details/co-rm-merry-wells-meeting-30135
END:VEVENT

END:VCALENDAR
