BEGIN:VCALENDAR
VERSION:2.0
PRODID:-//ChamberMaster//Event Calendar 2.0//EN
METHOD:PUBLISH
X-PUBLISHED-TTL:P3D
REFRESH-INTERVAL:P3D
CALSCALE:GREGORIAN
BEGIN:VEVENT
DTSTART:20260211T160000Z
DTEND:20260211T170000Z
X-MICROSOFT-CDO-ALLDAYEVENT:FALSE
SUMMARY:Cm. Rm. Tourism & Hospitality
DESCRIPTION:
X-ALT-DESC;FMTTYPE=text/html:
LOCATION:
UID:e.1172.27498
SEQUENCE:3
DTSTAMP:20260426T011141Z
URL:https://business.mineralwellstx.com/events/details/cm-rm-tourism-hospitality-02-11-2026-27498
END:VEVENT

END:VCALENDAR
