BEGIN:VCALENDAR
VERSION:2.0
PRODID:-//ChamberMaster//Event Calendar 2.0//EN
METHOD:PUBLISH
X-PUBLISHED-TTL:P3D
REFRESH-INTERVAL:P3D
CALSCALE:GREGORIAN
BEGIN:VEVENT
DTSTART:20260616T130000Z
DTEND:20260616T150000Z
X-MICROSOFT-CDO-ALLDAYEVENT:FALSE
SUMMARY:Cm. Rm. - Chamber Resource Group
DESCRIPTION:
X-ALT-DESC;FMTTYPE=text/html:
LOCATION:
UID:e.1172.26868
SEQUENCE:3
DTSTAMP:20260425T212522Z
URL:https://business.mineralwellstx.com/events/details/cm-rm-chamber-resource-group-06-16-2026-26868
END:VEVENT

END:VCALENDAR
