BEGIN:VCALENDAR
VERSION:2.0
PRODID:-//ChamberMaster//Event Calendar 2.0//EN
METHOD:PUBLISH
X-PUBLISHED-TTL:P3D
REFRESH-INTERVAL:P3D
CALSCALE:GREGORIAN
BEGIN:VEVENT
DTSTART:20250423T130000Z
DTEND:20250423T150000Z
X-MICROSOFT-CDO-ALLDAYEVENT:FALSE
SUMMARY:Bd Room: Executive Board Mtg
DESCRIPTION:
X-ALT-DESC;FMTTYPE=text/html:
LOCATION:
UID:e.1172.29133
SEQUENCE:3
DTSTAMP:20260420T052902Z
URL:https://business.mineralwellstx.com/events/details/bd-room-executive-board-mtg-29133
END:VEVENT

END:VCALENDAR
