BEGIN:VCALENDAR
VERSION:2.0
PRODID:-//ChamberMaster//Event Calendar 2.0//EN
METHOD:PUBLISH
X-PUBLISHED-TTL:P3D
REFRESH-INTERVAL:P3D
CALSCALE:GREGORIAN
BEGIN:VEVENT
DTSTART:20260309T223000Z
DTEND:20260310T000000Z
X-MICROSOFT-CDO-ALLDAYEVENT:FALSE
SUMMARY:Bd. Rm: Brazos Foundation
DESCRIPTION:
X-ALT-DESC;FMTTYPE=text/html:
LOCATION:
UID:e.1172.30251
SEQUENCE:3
DTSTAMP:20260425T233107Z
URL:https://business.mineralwellstx.com/events/details/bd-rm-brazos-foundation-30251
END:VEVENT

END:VCALENDAR
