BEGIN:VCALENDAR
VERSION:2.0
PRODID:-//ChamberMaster//Event Calendar 2.0//EN
METHOD:PUBLISH
X-PUBLISHED-TTL:P3D
REFRESH-INTERVAL:P3D
CALSCALE:GREGORIAN
BEGIN:VEVENT
DTSTART:20260328T150000Z
DTEND:20260328T210000Z
X-MICROSOFT-CDO-ALLDAYEVENT:FALSE
SUMMARY:An Egg-citing Garden Day
DESCRIPTION:Hop into Spring at An Egg-citing Garden Day! Enjoy an Easter egg hunt\, Bunny sightings\, live music\, bounce house\, lawn games\, a rubber duck race\, tasty food and a gardening education station. Fun for the whole family.
X-ALT-DESC;FMTTYPE=text/html:Hop into Spring at An Egg-citing Garden Day! Enjoy an Easter egg hunt\, Bunny sightings\, live music\, bounce house\, lawn games\, a rubber duck race\, tasty food and a gardening education station. Fun for the whole family.
LOCATION:Clark Gardens
UID:e.1172.30146
SEQUENCE:3
DTSTAMP:20260425T233137Z
URL:https://business.mineralwellstx.com/events/details/an-egg-citing-garden-day-30146
END:VEVENT

END:VCALENDAR
