BEGIN:VCALENDAR
VERSION:2.0
PRODID:-//ChamberMaster//Event Calendar 2.0//EN
METHOD:PUBLISH
X-PUBLISHED-TTL:P3D
REFRESH-INTERVAL:P3D
CALSCALE:GREGORIAN
BEGIN:VEVENT
DTSTART:20260904T170000Z
DTEND:20260904T180000Z
X-MICROSOFT-CDO-ALLDAYEVENT:FALSE
SUMMARY:Co Rm Ambassador Meeting
DESCRIPTION:Ambassador monthly meeting\n\n12pm at Chamber
X-ALT-DESC;FMTTYPE=text/html:Ambassador monthly meeting<br />\n12pm at Chamber
LOCATION:
UID:e.1172.25736
SEQUENCE:3
DTSTAMP:20260426T013835Z
URL:https://business.mineralwellstx.com/events/details/ambassador-meeting-09-04-2026-25736
END:VEVENT

END:VCALENDAR
